BEGIN:VCALENDAR
VERSION:2.0
PRODID:-//Gay Hotel Blackpool - ECPv6.15.20//NONSGML v1.0//EN
CALSCALE:GREGORIAN
METHOD:PUBLISH
X-ORIGINAL-URL:https://pridelodge.com
X-WR-CALDESC:Events for Gay Hotel Blackpool
REFRESH-INTERVAL;VALUE=DURATION:PT1H
X-Robots-Tag:noindex
X-PUBLISHED-TTL:PT1H
BEGIN:VTIMEZONE
TZID:Europe/London
BEGIN:DAYLIGHT
TZOFFSETFROM:+0000
TZOFFSETTO:+0100
TZNAME:BST
DTSTART:20240331T010000
END:DAYLIGHT
BEGIN:STANDARD
TZOFFSETFROM:+0100
TZOFFSETTO:+0000
TZNAME:GMT
DTSTART:20241027T010000
END:STANDARD
BEGIN:DAYLIGHT
TZOFFSETFROM:+0000
TZOFFSETTO:+0100
TZNAME:BST
DTSTART:20250330T010000
END:DAYLIGHT
BEGIN:STANDARD
TZOFFSETFROM:+0100
TZOFFSETTO:+0000
TZNAME:GMT
DTSTART:20251026T010000
END:STANDARD
BEGIN:DAYLIGHT
TZOFFSETFROM:+0000
TZOFFSETTO:+0100
TZNAME:BST
DTSTART:20260329T010000
END:DAYLIGHT
BEGIN:STANDARD
TZOFFSETFROM:+0100
TZOFFSETTO:+0000
TZNAME:GMT
DTSTART:20261025T010000
END:STANDARD
BEGIN:DAYLIGHT
TZOFFSETFROM:+0000
TZOFFSETTO:+0100
TZNAME:BST
DTSTART:20270328T010000
END:DAYLIGHT
BEGIN:STANDARD
TZOFFSETFROM:+0100
TZOFFSETTO:+0000
TZNAME:GMT
DTSTART:20271031T010000
END:STANDARD
END:VTIMEZONE
BEGIN:VEVENT
DTSTART;TZID=Europe/London:20250806T000000
DTEND;TZID=Europe/London:20261231T235959
DTSTAMP:20260423T142720
CREATED:20260114T225946Z
LAST-MODIFIED:20260114T225946Z
UID:1019-1754438400-1798761599@pridelodge.com
SUMMARY:Rainbow Quarter - Blackpool - Queen Street - Bars
DESCRIPTION:Sherlock’s – 23 Queen St.\nCowboy & Co. – 27 Queen St.\nSlug & Lettuce – 8/14 Queen St.\nGalleion Bar – 68/79 Albion St.\nFlying Handbag – 44 Queen St.\n31 Queen St.\nBar 19 – 19 Queen St.\nWalkabout – 1/9 Queen St.
URL:https://pridelodge.com/event/rainbow-quarter-blackpool-queen-street-bars/
LOCATION:Queen Street\, Queen Street\, Blackpool\, Lancashire\, FY1 1NL
CATEGORIES:Rainbow Quarter
ATTACH;FMTTYPE=image/jpeg:https://pridelodge.com/wp-content/uploads/2026/01/516635105_704074229284820_7243740356297682324_n.jpg
END:VEVENT
BEGIN:VEVENT
DTSTART;TZID=Europe/London:20260101T000000
DTEND;TZID=Europe/London:20261231T235959
DTSTAMP:20260423T142720
CREATED:20260114T233232Z
LAST-MODIFIED:20260114T233311Z
UID:1023-1767225600-1798761599@pridelodge.com
SUMMARY:Rainbow Quarter - Blackpool - Dickson Road - Bars
DESCRIPTION:Cuban Bar – 29a Dickson Road\nFunny Girls – 5 Dickson Road\nGin & Bear it Bar – 25 Dickson Road\nLu Lu’s Lounge – 78b/82 Dickson Road\nManBar / Growler – 25 Dickson Road\nOscars Nightclub – 5 Dickson Road\nPeek-a-Booze – 72/74 Dickson Road\nThe Duke – 60 Dickson Road
URL:https://pridelodge.com/event/rainbow-quarter-blackpool-dickson-road-bars/
LOCATION:Dickson Road\, Dickson Road\, Blackpool\, Lancashire\, FY1 2AW\, United Kingdom
CATEGORIES:Rainbow Quarter
ATTACH;FMTTYPE=image/jpeg:https://pridelodge.com/wp-content/uploads/2026/01/566302074_790401000652142_2913262905482131695_n.jpg
END:VEVENT
BEGIN:VEVENT
DTSTART;TZID=Europe/London:20260206T000000
DTEND;TZID=Europe/London:20260207T235959
DTSTAMP:20260423T142720
CREATED:20260113T005618Z
LAST-MODIFIED:20260113T005618Z
UID:1002-1770336000-1770508799@pridelodge.com
SUMMARY:Blackpool Winter Pride 6 & 7th Feb 2026
DESCRIPTION:What to Expect:\n\nWinter Pride: A more intimate\, pub-focused experience with drag\, DJs\, and local venue crawls\, often free or low-cost.
URL:https://pridelodge.com/event/blackpool-winter-pride-6-7th-feb-2026/
LOCATION:Lord Street\, Lord Street\, Blackpool\, Lancashire\, FY1 2BD
CATEGORIES:Rainbow Quarter
ATTACH;FMTTYPE=image/jpeg:https://pridelodge.com/wp-content/uploads/2026/01/WinterPride.jpg
END:VEVENT
BEGIN:VEVENT
DTSTART;TZID=Europe/London:20260207T233000
DTEND;TZID=Europe/London:20260208T010000
DTSTAMP:20260423T142720
CREATED:20260115T234115Z
LAST-MODIFIED:20260115T235140Z
UID:1033-1770507000-1770512400@pridelodge.com
SUMMARY:Johnny Wright - Midnight - Sat 7th Feb - The Flying Handbag - Winter Pride
DESCRIPTION:✨ Winter Pride Party Weekend is nearly here! ❄️🏳️‍🌈\nWe’re proud to be raising funds for Blackpool Pride Festival\, and the energy is building…\nJohnny Wright will be joining us at midnight on Saturday\, 7th\, ready to take the party up a level! 🎉🔥\nGet yourself down for an unforgettable night! 🌈💙
URL:https://pridelodge.com/event/johnny-wright-midnight-sat-7th-feb-the-flying-handbag-winter-pride/
LOCATION:The Flying Handbag\, 44 Queen Street\, Blackpool\, Lancashire\, FY1 2AY\, United Kingdom
CATEGORIES:Rainbow Quarter
ATTACH;FMTTYPE=image/jpeg:https://pridelodge.com/wp-content/uploads/2026/01/JonnyWrightWinterPride2026.jpg
END:VEVENT
BEGIN:VEVENT
DTSTART;TZID=Europe/London:20260214T210000
DTEND;TZID=Europe/London:20260214T220000
DTSTAMP:20260423T142720
CREATED:20260113T003318Z
LAST-MODIFIED:20260113T003318Z
UID:992-1771102800-1771106400@pridelodge.com
SUMMARY:Belinda Scandal @ McGraths Irish Bar Sat 14th Feb 9pm
DESCRIPTION:Roses are red\, violets are blue\,\nCupid’s called in sick… so Belinda Scandal will do \n\n\nThe drag legend is BACK at McGraths this Valentine’s Day\, serving camp comedy and live vocals (the kind that’ll have you clutching your pearls and your prosecco).\n\n\nBring a date\, bring your mates\, or come solo and let Cupid sort the rest \n\n\n Saturday 14th February 2026\n Show starts at 9 pm
URL:https://pridelodge.com/event/belinda-scandal-mcgraths-irish-bar-sat-14th-feb-9pm/
LOCATION:McGraths Irish Bar\, 87 Lord Street\, Blackpool\, Lancashire\, FY1 2DG\, United Kingdom
CATEGORIES:Free Events,Gay Quarter,Rainbow Quarter
ATTACH;FMTTYPE=image/jpeg:https://pridelodge.com/wp-content/uploads/2026/01/614541195_914188177942364_2841858304374899057_n.jpg
END:VEVENT
BEGIN:VEVENT
DTSTART;TZID=Europe/London:20260221T200000
DTEND;TZID=Europe/London:20260228T213000
DTSTAMP:20260423T142720
CREATED:20260202T191241Z
LAST-MODIFIED:20260202T191241Z
UID:1188-1771704000-1772314200@pridelodge.com
SUMMARY:FEBRUARY AT MCGRATHS
DESCRIPTION:Belinda Scandal – Sat 14th Feb\nPolly Glamourous – Fri 20th Feb\nLola Lasagne Sat 21st Feb\nShania Pain Sat 28th Feb
URL:https://pridelodge.com/event/february-at-mcgraths/
LOCATION:McGraths Irish Bar\, 87 Lord Street\, Blackpool\, Lancashire\, FY1 2DG\, United Kingdom
CATEGORIES:Rainbow Quarter
ATTACH;FMTTYPE=image/jpeg:https://pridelodge.com/wp-content/uploads/2026/02/FEB2026_n.jpg
END:VEVENT
END:VCALENDAR