BEGIN:VCALENDAR
VERSION:2.0
PRODID:-//Gay Hotel Blackpool - ECPv6.15.20//NONSGML v1.0//EN
CALSCALE:GREGORIAN
METHOD:PUBLISH
X-WR-CALNAME:Gay Hotel Blackpool
X-ORIGINAL-URL:https://pridelodge.com
X-WR-CALDESC:Events for Gay Hotel Blackpool
REFRESH-INTERVAL;VALUE=DURATION:PT1H
X-Robots-Tag:noindex
X-PUBLISHED-TTL:PT1H
BEGIN:VTIMEZONE
TZID:Europe/London
BEGIN:DAYLIGHT
TZOFFSETFROM:+0000
TZOFFSETTO:+0100
TZNAME:BST
DTSTART:20250330T010000
END:DAYLIGHT
BEGIN:STANDARD
TZOFFSETFROM:+0100
TZOFFSETTO:+0000
TZNAME:GMT
DTSTART:20251026T010000
END:STANDARD
BEGIN:DAYLIGHT
TZOFFSETFROM:+0000
TZOFFSETTO:+0100
TZNAME:BST
DTSTART:20260329T010000
END:DAYLIGHT
BEGIN:STANDARD
TZOFFSETFROM:+0100
TZOFFSETTO:+0000
TZNAME:GMT
DTSTART:20261025T010000
END:STANDARD
BEGIN:DAYLIGHT
TZOFFSETFROM:+0000
TZOFFSETTO:+0100
TZNAME:BST
DTSTART:20270328T010000
END:DAYLIGHT
BEGIN:STANDARD
TZOFFSETFROM:+0100
TZOFFSETTO:+0000
TZNAME:GMT
DTSTART:20271031T010000
END:STANDARD
END:VTIMEZONE
BEGIN:VEVENT
DTSTART;TZID=Europe/London:20260402T000000
DTEND;TZID=Europe/London:20260404T235959
DTSTAMP:20260420T150430
CREATED:20250813T113901Z
LAST-MODIFIED:20250813T113901Z
UID:706-1775088000-1775347199@pridelodge.com
SUMMARY:Fawlty Towers - Winter Gardens
DESCRIPTION:Fresh from a SOLD-OUT West End season! This laugh-out-loud production was universally acclaimed by every London and national critic\, selling out every single performance during its record-breaking West-End run. \nJoin Basil (Danny Bayne)\, the delightfully bumbling Major and Polly (Joanne Clifton)\, with an 18-strong cast as they bring to life all your favourite moments from the show’s unforgettable twelve episodes. With sharp wit\, chaos\, and calamity at every turn\, this is the comedy event of the year! \nSecure your tickets now and relive the madness of Fawlty Towers live on stage. It’s a staycation you’ll never forget! \nThur\, April 2\, 2026\, 14:30\nThur\, April 2\, 2026\, 19:30\nFri\, April 3\, 2026\, 19:30\nSat\, April 4\, 2026\, 14:30\nSat\, April 4\, 2026\, 19:30
URL:https://pridelodge.com/event/fawlty-towers-winter-gardens/
LOCATION:Winter Gardens\, 97 Church St\, Blackpool\, Lancashire\, FY1 1HL\, United Kingdom
CATEGORIES:Winter Gardens
ATTACH;FMTTYPE=image/jpeg:https://pridelodge.com/wp-content/uploads/2025/08/Fawlty-Towers.jpg
END:VEVENT
END:VCALENDAR