BEGIN:VCALENDAR
VERSION:2.0
PRODID:-//Gay Hotel Blackpool - ECPv6.15.20//NONSGML v1.0//EN
CALSCALE:GREGORIAN
METHOD:PUBLISH
X-WR-CALNAME:Gay Hotel Blackpool
X-ORIGINAL-URL:https://pridelodge.com
X-WR-CALDESC:Events for Gay Hotel Blackpool
REFRESH-INTERVAL;VALUE=DURATION:PT1H
X-Robots-Tag:noindex
X-PUBLISHED-TTL:PT1H
BEGIN:VTIMEZONE
TZID:Europe/London
BEGIN:DAYLIGHT
TZOFFSETFROM:+0000
TZOFFSETTO:+0100
TZNAME:BST
DTSTART:20250330T010000
END:DAYLIGHT
BEGIN:STANDARD
TZOFFSETFROM:+0100
TZOFFSETTO:+0000
TZNAME:GMT
DTSTART:20251026T010000
END:STANDARD
BEGIN:DAYLIGHT
TZOFFSETFROM:+0000
TZOFFSETTO:+0100
TZNAME:BST
DTSTART:20260329T010000
END:DAYLIGHT
BEGIN:STANDARD
TZOFFSETFROM:+0100
TZOFFSETTO:+0000
TZNAME:GMT
DTSTART:20261025T010000
END:STANDARD
BEGIN:DAYLIGHT
TZOFFSETFROM:+0000
TZOFFSETTO:+0100
TZNAME:BST
DTSTART:20270328T010000
END:DAYLIGHT
BEGIN:STANDARD
TZOFFSETFROM:+0100
TZOFFSETTO:+0000
TZNAME:GMT
DTSTART:20271031T010000
END:STANDARD
END:VTIMEZONE
BEGIN:VEVENT
DTSTART;TZID=Europe/London:20260418T143000
DTEND;TZID=Europe/London:20260418T230000
DTSTAMP:20260422T171703
CREATED:20250809T222245Z
LAST-MODIFIED:20250809T222351Z
UID:661-1776522600-1776553200@pridelodge.com
SUMMARY:Diversity - Opera House -  Sat April 18 14:3- & 19:45
DESCRIPTION:Diversity is set to take to the road on a major new tour of the UK and Ireland in spring 2026. \nThe UK’s most successful dance group will bring their new concept tour SOUL
URL:https://pridelodge.com/event/diversity-opera-house-sat-april-18-143-1945/
LOCATION:Winter Gardens\, 97 Church St\, Blackpool\, Lancashire\, FY1 1HL\, United Kingdom
CATEGORIES:Winter Gardens
ATTACH;FMTTYPE=image/jpeg:https://pridelodge.com/wp-content/uploads/2025/08/Diversity.jpg
END:VEVENT
END:VCALENDAR