BEGIN:VCALENDAR
VERSION:2.0
PRODID:-//Gay Hotel Blackpool - ECPv6.15.20//NONSGML v1.0//EN
CALSCALE:GREGORIAN
METHOD:PUBLISH
X-ORIGINAL-URL:https://pridelodge.com
X-WR-CALDESC:Events for Gay Hotel Blackpool
REFRESH-INTERVAL;VALUE=DURATION:PT1H
X-Robots-Tag:noindex
X-PUBLISHED-TTL:PT1H
BEGIN:VTIMEZONE
TZID:Europe/London
BEGIN:DAYLIGHT
TZOFFSETFROM:+0000
TZOFFSETTO:+0100
TZNAME:BST
DTSTART:20250330T010000
END:DAYLIGHT
BEGIN:STANDARD
TZOFFSETFROM:+0100
TZOFFSETTO:+0000
TZNAME:GMT
DTSTART:20251026T010000
END:STANDARD
BEGIN:DAYLIGHT
TZOFFSETFROM:+0000
TZOFFSETTO:+0100
TZNAME:BST
DTSTART:20260329T010000
END:DAYLIGHT
BEGIN:STANDARD
TZOFFSETFROM:+0100
TZOFFSETTO:+0000
TZNAME:GMT
DTSTART:20261025T010000
END:STANDARD
BEGIN:DAYLIGHT
TZOFFSETFROM:+0000
TZOFFSETTO:+0100
TZNAME:BST
DTSTART:20270328T010000
END:DAYLIGHT
BEGIN:STANDARD
TZOFFSETFROM:+0100
TZOFFSETTO:+0000
TZNAME:GMT
DTSTART:20271031T010000
END:STANDARD
END:VTIMEZONE
BEGIN:VEVENT
DTSTART;TZID=Europe/London:20260131T183000
DTEND;TZID=Europe/London:20260131T210000
DTSTAMP:20260424T192248
CREATED:20260114T204903Z
LAST-MODIFIED:20260114T204903Z
UID:1010-1769884200-1769893200@pridelodge.com
SUMMARY:Stella Artois & DJ Keiron - 31 Jan Central Pier
DESCRIPTION:last few tickets available from the official support venue Peek-a-Booze Hotel and Cabaret Bar \nShow @ Central Pier
URL:https://pridelodge.com/event/stella-artois-dj-keiron-31-jan-central-pier/
LOCATION:Central Pier\, Promenade\, Blackpool\, Lancashire\, FY1 5BB\, United Kingdom
CATEGORIES:Ticket Event
ATTACH;FMTTYPE=image/jpeg:https://pridelodge.com/wp-content/uploads/2026/01/StellaArtois31Jan2026CentralPier.jpg
END:VEVENT
END:VCALENDAR